BEGIN:VCALENDAR
VERSION:2.0
PRODID:icalendar-ruby
CALSCALE:GREGORIAN
X-WR-TIMEZONE:Europe/Helsinki
BEGIN:VTIMEZONE
TZID:Europe/Helsinki
BEGIN:DAYLIGHT
DTSTART:20260329T040000
TZOFFSETFROM:+0200
TZOFFSETTO:+0300
RRULE:FREQ=YEARLY;BYDAY=-1SU;BYMONTH=3
TZNAME:EEST
END:DAYLIGHT
BEGIN:STANDARD
DTSTART:20261025T030000
TZOFFSETFROM:+0300
TZOFFSETTO:+0200
RRULE:FREQ=YEARLY;BYDAY=-1SU;BYMONTH=10
TZNAME:EET
END:STANDARD
END:VTIMEZONE
BEGIN:VEVENT
DTSTAMP:20260421T161635
UID:tiks.myclub.fi-9291328
DTSTART;TZID=Europe/Helsinki:20260413T160000
DTEND;TZID=Europe/Helsinki:20260413T180000
DESCRIPTION:Tähän ryhmään ovat tervetulleita 2015 -syntyneet tytöt. Ha
 rjoitukset ovat maanantaisin\, keskiviikkoisin ja perjantaisin Viertolan k
 oululla.\nLisätietoja toiminnasta joukkueenjohtajilta t15(at)tiks.fi\nU11
  -tyttöjen harrastusmaksu kaudella 2025-2026 on 635 €\, joka on pilkott
 u kahteen erään syksy/kevät.\nKoripalloharrastusta on mahdollista kokei
 lla maksutta kaksi kertaa\, jonka jälkeen harrastusmaksu laskutetaan koke
 ilupäivästä alkaen kuukausitasolla. Kausimaksu sisältää valmennuksen
 \, harjoittelutilat\, seuran järjestämät tilaisuudet (mm. joulu- sekä 
 kauden päätösjuhla)\, sarjapelit sekä pelien tuomarikulut ja pelipaida
 t.\nSarjaotteluihin osallistuvat pelaajat tarvitsevat lisäksi koripalloli
 senssin\, jonka pelaaja ostaa itse koripalloliiton sivuston kautta: https:
 //www.basket.fi/basket/info/lisenssit/lisenssin-osto/ . Mikäli harrastaja
  ei osallistu koripalloliiton järjestämiin sarjaotteluihin\, seura suosi
 ttelee kuitenkin ostamaan koripallokoululisenssin\, joka sisältää Pohjo
 lan Sporttiturva-vakuutuksen. Koripallokoululisenssin vakuutus ei ole voim
 assa muissa urheilulajeissa. Koripallokoululisenssi on myös tarvittaessa 
 helppo korottaa sarjapeleihin oikeuttavaan lisenssiin. Lisätietoja lisens
 sin ostamisesta joukkueenjohtajalta.\nLaskutus tapahtuu kahdessa osassa\; 
 syyskausi ja kevätkausi. Laskut näkyvät myös myClubissa.\nHarrastamise
 n mahdollisesta lopettamisesta ilmoitetaan kirjallisesti lomakkeella: Lope
 ttamisilmoitus- Tikkurila-Seura ry. Lopetettaessa kesken syys- tai kevätk
 auden\, kausimaksua ei hyvitetä tai palauteta ja harrastusmaksu veloiteta
 an lopettamisilmoituksesta seuraavan kuukauden loppuun asti.\nLapselle tul
 ee luoda oma myClub-tunnus\, jotta jäsenrekisterimme pysyy ajan tasalla. 
 Lapsen tunnuksen voi luoda oman myClub ID:n alle.\n\nhttps://tiks.myclub.f
 i/flow/events/9291328
LOCATION:Viertolan koulu\, Liljatie 2\, 01300 Vantaa
SEQUENCE:0
SUMMARY:Uudet ilmoittautumiset U11 Mini-tytöt: Uusien pelaajien ilmoittaut
 uminen kaudella 2025-2026- Tytöt U11 (2015 syntyneet)
URL;VALUE=URI:https://tiks.myclub.fi/flow/events/9291328
END:VEVENT
END:VCALENDAR
